BEGIN:VCALENDAR
VERSION:2.0
PRODID:-//ANOCR - ECPv6.15.20//NONSGML v1.0//EN
CALSCALE:GREGORIAN
METHOD:PUBLISH
X-WR-CALNAME:ANOCR
X-ORIGINAL-URL:https://www.anocr.org
X-WR-CALDESC:Évènements pour ANOCR
REFRESH-INTERVAL;VALUE=DURATION:PT1H
X-Robots-Tag:noindex
X-PUBLISHED-TTL:PT1H
BEGIN:VTIMEZONE
TZID:Europe/Paris
BEGIN:DAYLIGHT
TZOFFSETFROM:+0100
TZOFFSETTO:+0200
TZNAME:CEST
DTSTART:20250330T010000
END:DAYLIGHT
BEGIN:STANDARD
TZOFFSETFROM:+0200
TZOFFSETTO:+0100
TZNAME:CET
DTSTART:20251026T010000
END:STANDARD
BEGIN:DAYLIGHT
TZOFFSETFROM:+0100
TZOFFSETTO:+0200
TZNAME:CEST
DTSTART:20260329T010000
END:DAYLIGHT
BEGIN:STANDARD
TZOFFSETFROM:+0200
TZOFFSETTO:+0100
TZNAME:CET
DTSTART:20261025T010000
END:STANDARD
BEGIN:DAYLIGHT
TZOFFSETFROM:+0100
TZOFFSETTO:+0200
TZNAME:CEST
DTSTART:20270328T010000
END:DAYLIGHT
BEGIN:STANDARD
TZOFFSETFROM:+0200
TZOFFSETTO:+0100
TZNAME:CET
DTSTART:20271031T010000
END:STANDARD
END:VTIMEZONE
BEGIN:VEVENT
DTSTART;TZID=Europe/Paris:20260122T150000
DTEND;TZID=Europe/Paris:20260122T170000
DTSTAMP:20260420T155724
CREATED:20251210T113456Z
LAST-MODIFIED:20251215T115547Z
UID:48545-1769094000-1769101200@www.anocr.org
SUMMARY:GALETTE DES ROIS du gpt des Hautes-Pyrénées
DESCRIPTION:La galette des rois du groupement des Hautes-Pyrénées se tiendra le 22 janvier 2025 de 15h00 à 17h00 au domaine St Ferréol à CHIS (65).
URL:https://www.anocr.org/evenement/galette-des-rois/
CATEGORIES:Hautes-Pyrénées
ATTACH;FMTTYPE=image/jpeg:https://www.anocr.org/wp-content/uploads/2025/11/AdobeStock_477056358_Preview.jpeg
END:VEVENT
END:VCALENDAR